BEGIN:VCALENDAR
VERSION:2.0
PRODID:-//polyphony space on.off | ポリフォニースペースオンオフ | 子どもと一緒にいながら自分時間を*広島の託児付きリフレッシュ空間・コワーキングスペース・シェアスペース・レンタルスペース・一時預かり保育 | 子連れでリフレッシュ*カフェのようにくつろぐ*親子イベントも - ECPv6.8.3//NONSGML v1.0//EN
CALSCALE:GREGORIAN
METHOD:PUBLISH
X-WR-CALNAME:polyphony space on.off | ポリフォニースペースオンオフ | 子どもと一緒にいながら自分時間を*広島の託児付きリフレッシュ空間・コワーキングスペース・シェアスペース・レンタルスペース・一時預かり保育 | 子連れでリフレッシュ*カフェのようにくつろぐ*親子イベントも
X-ORIGINAL-URL:https://polyphony.space
X-WR-CALDESC:polyphony space on.off | ポリフォニースペースオンオフ | 子どもと一緒にいながら自分時間を*広島の託児付きリフレッシュ空間・コワーキングスペース・シェアスペース・レンタルスペース・一時預かり保育 | 子連れでリフレッシュ*カフェのようにくつろぐ*親子イベントも のイベント
REFRESH-INTERVAL;VALUE=DURATION:PT1H
X-Robots-Tag:noindex
X-PUBLISHED-TTL:PT1H
BEGIN:VTIMEZONE
TZID:Asia/Tokyo
BEGIN:STANDARD
TZOFFSETFROM:+0900
TZOFFSETTO:+0900
TZNAME:JST
DTSTART:20170101T000000
END:STANDARD
END:VTIMEZONE
BEGIN:VEVENT
DTSTART;TZID=Asia/Tokyo:20170421T103000
DTEND;TZID=Asia/Tokyo:20170421T110000
DTSTAMP:20260425T225527
CREATED:20170403T070853Z
LAST-MODIFIED:20170425T053650Z
UID:1117-1492770600-1492772400@polyphony.space
SUMMARY:on.off/おためし英語教室
DESCRIPTION:「子どもを英語教室に通わせてみたいけど、興味を持つかどうか分からないのに始めから高い月謝を払うのはいやだな・・・。」と思っているそこの奥様！笑（私も思ってる・・・） \non.offで “おためし” してみてはいかがでしょうか？\n料金は１回ごとのお支払いなので、お子さまの気分やご家庭の用事に合わせておためしできます。 \n毎月テーマを設けて、親子で輪になり英語に触れあいます。お気軽・お気楽にご参加ください♪\n・ \n【今月のテーマ】安佐ZOOでえいご♪ \n・\n◆対象 \n会員カードをお持ちで、お子さま約１歳６ヶ月以降の親子。（当日入会可）\n兄弟OK（一緒に参加は０円，託児はお一人につき２９７円追加） \n・\n◆お申し込み \n前日までにこちらからお申し込みください。\n◎親子１０組まで（先着順） \n・\n◆講師のご紹介 \n箱石 愛（はこいし めぐみ）\n[写真は次回掲載予定♪]\n京都出身。５～１２歳までをアメリカで過ごす。同志社大学英文学科卒業後は旅行会社にて外国人向けの企画やアテンド業務に就く。現在は広島市安佐南区で２歳の女の子のママとして毎日奮闘中。 \n・\n◆お申し込み・キャンセルについての注意点 \n①原則前日までのお申し込みになりますが、空きがある場合に限り当日店頭でのお申し込みを承ります。ただし、空き状況の事前のご確認・お問い合わせはできかねますのでご来店してからスタッフへお尋ねください。 \n②キャンセルは当日朝10:00まではお問い合わせフォームから可能です。 \n③ご連絡なしのキャンセルや当日10:00を過ぎてからのキャンセルは、キャンセル料として全額を後日ご請求させていただきます。申し訳ありませんが予めご了承ください。 \n④お子さまの体調不良などは余裕をもって判断し、それに伴いお申し込みをキャンセルされる場合はお早めにキャンセル処理をお願いいたします。（キャンセル方法等は②③の通りです） \n⑤講師の事情により（病気など）やむを得ず講座を中止する場合があります。中止になった場合は別日に振り替えさせていただきます。 \n※受講料￥８００のほかに、スペース利用料等はかかりません。
URL:https://polyphony.space/events/onoff0421/
LOCATION:会議室大
CATEGORIES:こどもといっしょ
END:VEVENT
END:VCALENDAR