BEGIN:VCALENDAR
VERSION:2.0
PRODID:-//polyphony space on.off | ポリフォニースペースオンオフ | 子どもと一緒にいながら自分時間を*広島の託児付きリフレッシュ空間・コワーキングスペース・シェアスペース・レンタルスペース・一時預かり保育 | 子連れでリフレッシュ*カフェのようにくつろぐ*親子イベントも - ECPv6.8.3//NONSGML v1.0//EN
CALSCALE:GREGORIAN
METHOD:PUBLISH
X-ORIGINAL-URL:https://polyphony.space
X-WR-CALDESC:polyphony space on.off | ポリフォニースペースオンオフ | 子どもと一緒にいながら自分時間を*広島の託児付きリフレッシュ空間・コワーキングスペース・シェアスペース・レンタルスペース・一時預かり保育 | 子連れでリフレッシュ*カフェのようにくつろぐ*親子イベントも のイベント
REFRESH-INTERVAL;VALUE=DURATION:PT1H
X-Robots-Tag:noindex
X-PUBLISHED-TTL:PT1H
BEGIN:VTIMEZONE
TZID:Asia/Tokyo
BEGIN:STANDARD
TZOFFSETFROM:+0900
TZOFFSETTO:+0900
TZNAME:JST
DTSTART:20170101T000000
END:STANDARD
END:VTIMEZONE
BEGIN:VEVENT
DTSTART;TZID=Asia/Tokyo:20171011T103000
DTEND;TZID=Asia/Tokyo:20171011T120000
DTSTAMP:20260426T011703
CREATED:20170930T051724Z
LAST-MODIFIED:20170930T051724Z
UID:2247-1507717800-1507723200@polyphony.space
SUMMARY:ベビーマッサージ教室☆赤ちゃんモンテ講座付 
DESCRIPTION:赤ちゃんとママのベビーマッサージ教室です\n対象／生後２ヶ月～あんよ始めのお子さんとママ、プレママさん\n内容／\n・オイルを使ってのベビーマッサージや親子で楽しめる触れあい遊びや絵本の紹介等\n・赤ちゃんモンテッソーリ・敏感期についてミニ講座\n・お茶をのみながらママの交流\n※予防接種４２時間以内はベビーマッサージはできません  \n◆こちらは指定事業者さんによるイベントです\non.off規定の審査を経て登録された事業者さんです。\n詳細・お申し込み・ご不明点等のお問い合わせは以下URLのリンク先よりお願いいたします。
URL:https://polyphony.space/events/loverysmile1011/
LOCATION:会議室大
CATEGORIES:こどもといっしょ
END:VEVENT
END:VCALENDAR