BEGIN:VCALENDAR
VERSION:2.0
PRODID:-//polyphony space on.off | ポリフォニースペースオンオフ | 子どもと一緒にいながら自分時間を*広島の託児付きリフレッシュ空間・コワーキングスペース・シェアスペース・レンタルスペース・一時預かり保育 | 子連れでリフレッシュ*カフェのようにくつろぐ*親子イベントも - ECPv6.8.3//NONSGML v1.0//EN
CALSCALE:GREGORIAN
METHOD:PUBLISH
X-ORIGINAL-URL:https://polyphony.space
X-WR-CALDESC:polyphony space on.off | ポリフォニースペースオンオフ | 子どもと一緒にいながら自分時間を*広島の託児付きリフレッシュ空間・コワーキングスペース・シェアスペース・レンタルスペース・一時預かり保育 | 子連れでリフレッシュ*カフェのようにくつろぐ*親子イベントも のイベント
REFRESH-INTERVAL;VALUE=DURATION:PT1H
X-Robots-Tag:noindex
X-PUBLISHED-TTL:PT1H
BEGIN:VTIMEZONE
TZID:Asia/Tokyo
BEGIN:STANDARD
TZOFFSETFROM:+0900
TZOFFSETTO:+0900
TZNAME:JST
DTSTART:20170101T000000
END:STANDARD
END:VTIMEZONE
BEGIN:VEVENT
DTSTART;TZID=Asia/Tokyo:20171026T101500
DTEND;TZID=Asia/Tokyo:20171026T120000
DTSTAMP:20260426T011703
CREATED:20170922T051859Z
LAST-MODIFIED:20170922T051859Z
UID:2189-1509012900-1509019200@polyphony.space
SUMMARY:森のようちえんのお話し会～自然が育む親子時間
DESCRIPTION:自然遊び、外遊び。毎日の子どもとの遊びの時間も、じっくり考えてみると「自立とは？」「見守るとは？」と、子育ちにおける親の在り方を哲学できちゃいます。\n☑外遊びが子どもにとって大切なのはわかるけど、付き合う親はちょっと大変！子どもも大人も楽しめる外遊びのコツはないものかしら？\n☑「待つ」子育て、理想だけどうまくいかないな～。\n☑私は子育てで何を大切にしたいんだろう？\nというあなた！外遊びのエキスパート「森のようちえんまめとっこ」代表ちほっちと一緒にお話ししませんか？\n \n◆こちらは指定事業者さんによるイベントです\non.off規定の審査を経て登録された事業者さんです。\n詳細・お申し込み・ご不明点等のお問い合わせは以下URLのリンク先よりお願いいたします。
URL:https://polyphony.space/events/mametokko1026/
LOCATION:会議室大
CATEGORIES:こころ,こどもといっしょ
END:VEVENT
END:VCALENDAR