BEGIN:VCALENDAR
VERSION:2.0
PRODID:-//polyphony space on.off | ポリフォニースペースオンオフ | 子どもと一緒にいながら自分時間を*広島の託児付きリフレッシュ空間・コワーキングスペース・シェアスペース・レンタルスペース・一時預かり保育 | 子連れでリフレッシュ*カフェのようにくつろぐ*親子イベントも - ECPv6.8.3//NONSGML v1.0//EN
CALSCALE:GREGORIAN
METHOD:PUBLISH
X-ORIGINAL-URL:https://polyphony.space
X-WR-CALDESC:polyphony space on.off | ポリフォニースペースオンオフ | 子どもと一緒にいながら自分時間を*広島の託児付きリフレッシュ空間・コワーキングスペース・シェアスペース・レンタルスペース・一時預かり保育 | 子連れでリフレッシュ*カフェのようにくつろぐ*親子イベントも のイベント
REFRESH-INTERVAL;VALUE=DURATION:PT1H
X-Robots-Tag:noindex
X-PUBLISHED-TTL:PT1H
BEGIN:VTIMEZONE
TZID:Asia/Tokyo
BEGIN:STANDARD
TZOFFSETFROM:+0900
TZOFFSETTO:+0900
TZNAME:JST
DTSTART:20180101T000000
END:STANDARD
END:VTIMEZONE
BEGIN:VEVENT
DTSTART;TZID=Asia/Tokyo:20180209T100000
DTEND;TZID=Asia/Tokyo:20180209T120000
DTSTAMP:20260425T204041
CREATED:20171213T050019Z
LAST-MODIFIED:20171213T050019Z
UID:2640-1518170400-1518177600@polyphony.space
SUMMARY:手形アート教室＊kuu＊/手形アートワークショップ
DESCRIPTION:～かけがえのない時をカタチに～\n瞬きをするように過ぎ去っていくお子様のかけがえのない時\n小さな手形と足形を可愛いアート作品にして記念に残すお手伝いをします \n◆こちらは指定事業者さんによるイベントです\non.off規定の審査を経て登録された事業者さんです。\n詳細・お申し込み・ご不明点等のお問い合わせは以下URLのリンク先よりお願いいたします.
URL:https://polyphony.space/events/0209/
LOCATION:会議室大
CATEGORIES:こどもといっしょ,ワークショップ
END:VEVENT
END:VCALENDAR