BEGIN:VCALENDAR
VERSION:2.0
PRODID:-//polyphony space on.off | ポリフォニースペースオンオフ | 子どもと一緒にいながら自分時間を*広島の託児付きリフレッシュ空間・コワーキングスペース・シェアスペース・レンタルスペース・一時預かり保育 | 子連れでリフレッシュ*カフェのようにくつろぐ*親子イベントも - ECPv6.8.3//NONSGML v1.0//EN
CALSCALE:GREGORIAN
METHOD:PUBLISH
X-WR-CALNAME:polyphony space on.off | ポリフォニースペースオンオフ | 子どもと一緒にいながら自分時間を*広島の託児付きリフレッシュ空間・コワーキングスペース・シェアスペース・レンタルスペース・一時預かり保育 | 子連れでリフレッシュ*カフェのようにくつろぐ*親子イベントも
X-ORIGINAL-URL:https://polyphony.space
X-WR-CALDESC:polyphony space on.off | ポリフォニースペースオンオフ | 子どもと一緒にいながら自分時間を*広島の託児付きリフレッシュ空間・コワーキングスペース・シェアスペース・レンタルスペース・一時預かり保育 | 子連れでリフレッシュ*カフェのようにくつろぐ*親子イベントも のイベント
REFRESH-INTERVAL;VALUE=DURATION:PT1H
X-Robots-Tag:noindex
X-PUBLISHED-TTL:PT1H
BEGIN:VTIMEZONE
TZID:Asia/Tokyo
BEGIN:STANDARD
TZOFFSETFROM:+0900
TZOFFSETTO:+0900
TZNAME:JST
DTSTART:20180101T000000
END:STANDARD
END:VTIMEZONE
BEGIN:VEVENT
DTSTART;TZID=Asia/Tokyo:20181221T101500
DTEND;TZID=Asia/Tokyo:20181221T121500
DTSTAMP:20260424T231855
CREATED:20181210T065545Z
LAST-MODIFIED:20181210T070717Z
UID:4366-1545387300-1545394500@polyphony.space
SUMMARY:6歳までに！親子のコミュニケーションを考える「マザーズコーチングスクールBasic講座」
DESCRIPTION:親子のコミュニケーションの大切さ・正解がない子育ての道しるべを探す講座「マザーズコーチングスクールBasic講座」を、キャンペーン中につき無料で開催・受講できる機会をいただきました。\nオンオフの会員さんであれば無料で受講できます。\n（会員でない方も、当日会員登録していただくことで可能です！）\n・\n私つぶくは普段息子とは、「親子」という関係性にとらわれず接することを意識しています！自分の性格上、聖母のような母にもお手本のような大人にもなれないし、そうなる事が息子のためになるとも言い切れないからです。笑\n職業上、「コミュニケーション」というものにはずっと昔から興味を持っているので、どんな講座なのかとても楽しみ！\n・\nこの機会にぜひ、一緒に学び合いましょう♪\n・ \n人間の脳は、５歳～６歳頃までに大人の９０％ 程度まで大きくなり、０歳からその頃までの経験によって「思考パターン」の９５％ が決まるとわかっています。\nまた、ハーバード大学育児研究センターによると、こどもの将来の学業成績やコミュニケーション能力の違いは、０歳～６歳の間に、「大人とどんな関わりをしたか？」 で決まると言われています。\nこのように、才能や学歴、そしてキャリアを活かす鍵となるコミュニケーション能力の土台は、幼少期の頃にほとんど決まってしまうのが現実です。\nそしてその時期に、関わる時間がとても長く、また誰よりも影響力の強い存在は、お母さんです。\nマザーズコーチングスクールでは、こどもの将来のコミュニケーション能力の土台となる、重要な４つの要素を育てることを目的とした、お母さんのためのスクールです。\nお母さんが、こどもとどのようなコミュニケーションをはかるかで、将来のこどもの能力が大きく変わってきます。子育ての質は、母と子のコミュニケーションの質で決まると言っても、過言ではありません。 \nマザーズコーチングスクール公式ホームページより引用\nURL：http://motherscoachingschool.com/ \n・\n詳細・お申込みは以下ページよりどうぞ♪\n※オンオフ主催ですがお申込みやご質問、各種ご連絡などは以下ページよりお願いいたします。\nhttps://tanpotokoyoga.com/mothers-coaching-school-poliphonyspace/ \n・
URL:https://polyphony.space/events/onoff181221-2/
LOCATION:ポリフォニースペースオンオフ
CATEGORIES:on.off主催,こころ,こどもといっしょ,学び
END:VEVENT
BEGIN:VEVENT
DTSTART;TZID=Asia/Tokyo:20181221T110000
DTEND;TZID=Asia/Tokyo:20181221T113000
DTSTAMP:20260424T231855
CREATED:20181010T023156Z
LAST-MODIFIED:20181010T023156Z
UID:4167-1545390000-1545391800@polyphony.space
SUMMARY:絵本読み聞かせ
DESCRIPTION:小さい頃から絵本に親しむと、想像力・読解力など大人になっても必要なチカラが自然と身に付きます。\n毎月第１・３・５金曜日はボランティアさんによる絵本読み聞かせの日♪\n託児スペース内でお気軽に。 \n・\n◆お申し込み・イベント参加費は不要です \n通常の滞在費（スペース利用料）がかかります。\nご来店の際は予約フォームより事前にご予約ください。\n会員登録がお済みでない方はこちらから。 \n・\n◆担当者のご紹介 \n岡本 久美子（おかもと くみこ） \n・\n◆店長コメント \n絵本読み聞かせ復活♪\n託児スペースでお子さま向けに読みますので、パパ・ママはいつも通りどこの席にいても大丈夫です(*^_^*)
URL:https://polyphony.space/events/onoff181221/
LOCATION:ポリフォニースペースオンオフ
CATEGORIES:on.off主催,こどもといっしょ
END:VEVENT
END:VCALENDAR