BEGIN:VCALENDAR
VERSION:2.0
PRODID:-//polyphony space on.off | ポリフォニースペースオンオフ | 子どもと一緒にいながら自分時間を*広島の託児付きリフレッシュ空間・コワーキングスペース・シェアスペース・レンタルスペース・一時預かり保育 | 子連れでリフレッシュ*カフェのようにくつろぐ*親子イベントも - ECPv6.8.3//NONSGML v1.0//EN
CALSCALE:GREGORIAN
METHOD:PUBLISH
X-WR-CALNAME:polyphony space on.off | ポリフォニースペースオンオフ | 子どもと一緒にいながら自分時間を*広島の託児付きリフレッシュ空間・コワーキングスペース・シェアスペース・レンタルスペース・一時預かり保育 | 子連れでリフレッシュ*カフェのようにくつろぐ*親子イベントも
X-ORIGINAL-URL:https://polyphony.space
X-WR-CALDESC:polyphony space on.off | ポリフォニースペースオンオフ | 子どもと一緒にいながら自分時間を*広島の託児付きリフレッシュ空間・コワーキングスペース・シェアスペース・レンタルスペース・一時預かり保育 | 子連れでリフレッシュ*カフェのようにくつろぐ*親子イベントも のイベント
REFRESH-INTERVAL;VALUE=DURATION:PT1H
X-Robots-Tag:noindex
X-PUBLISHED-TTL:PT1H
BEGIN:VTIMEZONE
TZID:Asia/Tokyo
BEGIN:STANDARD
TZOFFSETFROM:+0900
TZOFFSETTO:+0900
TZNAME:JST
DTSTART:20190101T000000
END:STANDARD
END:VTIMEZONE
BEGIN:VEVENT
DTSTART;VALUE=DATE:20190216
DTEND;VALUE=DATE:20190217
DTSTAMP:20260424T201943
CREATED:20190130T082012Z
LAST-MODIFIED:20190130T082112Z
UID:4701-1550275200-1550361599@polyphony.space
SUMMARY:SpecialtyCoffeeをゆったり嗜む日
DESCRIPTION:・\nオンオフが一日、喫茶店へと変身。\n・\nゆったりとした空気の中香り高いSpecialtyCoffeeを落ち着いて楽しんでいただけます。\n・\nBGMはあなたが好きな音楽を流します。\n・\nお子さんは、わたしたちが見ておくので安心してください。\n・\nどうぞゆっくりくつろいでください。\n・\nいつもと違うon.offで、一時の休憩を楽しんでください。\n・\n≫前回の様子を見てみる\n \n・\n今回は、14：30～15：30の間にフルートの生演奏を行います。\nコーヒーと一緒にお楽しみ下さい♪\n・ \n\n◆MENU\n・ \nハンドドリップコーヒー４種テイスティング　￥♡\nデカフェ（カフェインレスコーヒー）を含みます。 \n・ \n  \n注文を受けてから丁寧に淹れるSpecialtyCoffeeを１杯　￥400\n４種の中から一番お好みだったものをお選びいただけます。 \n・ \n  \nnote特製くるみのスコーン　￥250\nスコーンは限定10個です。 \n・ \n  \n雪印パーラー スノーロイヤルスペシャル（アイスクリーム）　￥700\n天皇・皇后両陛下のために特別に作られたバニラアイスクリームをお取り寄せ。限定6食。 \n・ \n  \nSpecialtyCoffee・スコーン・スノーロイヤルスペシャルのセット　￥1000\nスコーンまたはアイスクリームどちらかが無くなり次第終了します。 \n・ \n  \nnote店主のCoffeeLesson　￥500\n妊娠中・授乳期に気をつけたいコーヒーとの付き合い方\n（11:00〜11:30/14:00〜14:30） \n・ \n\n・\n◆お申込み方法\n・\n託児予約フォームよりご予約ください。\n※お子さまの人数でご予約ください。\n・\n・備考欄には、大人の人数とお子さまの情報（ひらがなでお名前・月齢）をご入力ください。\n・MENUは事前予約（お取り置き）いただくことが可能です。その場合も備考欄にてメニュー名と必要個数をお知らせください。 \n・\n◆参加費\n・\n通常の滞在費（スペース利用料）\nご注文MENUの代金\n・
URL:https://polyphony.space/events/onoff190216/
LOCATION:ポリフォニースペースオンオフ
CATEGORIES:BGM,on.off主催,こころ,こどもといっしょ
END:VEVENT
END:VCALENDAR