BEGIN:VCALENDAR
VERSION:2.0
PRODID:-//polyphony space on.off | ポリフォニースペースオンオフ | 子どもと一緒にいながら自分時間を*広島の託児付きリフレッシュ空間・コワーキングスペース・シェアスペース・レンタルスペース・一時預かり保育 | 子連れでリフレッシュ*カフェのようにくつろぐ*親子イベントも - ECPv6.8.3//NONSGML v1.0//EN
CALSCALE:GREGORIAN
METHOD:PUBLISH
X-ORIGINAL-URL:https://polyphony.space
X-WR-CALDESC:polyphony space on.off | ポリフォニースペースオンオフ | 子どもと一緒にいながら自分時間を*広島の託児付きリフレッシュ空間・コワーキングスペース・シェアスペース・レンタルスペース・一時預かり保育 | 子連れでリフレッシュ*カフェのようにくつろぐ*親子イベントも のイベント
REFRESH-INTERVAL;VALUE=DURATION:PT1H
X-Robots-Tag:noindex
X-PUBLISHED-TTL:PT1H
BEGIN:VTIMEZONE
TZID:Asia/Tokyo
BEGIN:STANDARD
TZOFFSETFROM:+0900
TZOFFSETTO:+0900
TZNAME:JST
DTSTART:20190101T000000
END:STANDARD
END:VTIMEZONE
BEGIN:VEVENT
DTSTART;TZID=Asia/Tokyo:20190218T110000
DTEND;TZID=Asia/Tokyo:20190218T113000
DTSTAMP:20260424T202224
CREATED:20181228T024931Z
LAST-MODIFIED:20190220T045301Z
UID:4417-1550487600-1550489400@polyphony.space
SUMMARY:絵本読み聞かせ
DESCRIPTION:小さい頃から絵本に親しむと、想像力・読解力など大人になっても必要なチカラが自然と身に付きます。\n毎月第１・３・５月曜日はボランティアさんによる絵本読み聞かせの日♪\n託児スペース内でお気軽に。 \n・\n◆お申し込み・イベント参加費は不要です \n通常の滞在費（スペース利用料）がかかります。\nご来店の際は予約フォームより事前にご予約ください。\n会員登録がお済みでない方はこちらから。 \n・\n◆担当者のご紹介 \n岡本 久美子（おかもと くみこ） \n・\n◆店長コメント \n託児スペースでお子さま向けに読みますので、パパ・ママはいつも通りどこの席にいても大丈夫です(*^_^*)
URL:https://polyphony.space/events/onoff190218-2/
LOCATION:ポリフォニースペースオンオフ
CATEGORIES:on.off主催,こどもといっしょ
END:VEVENT
END:VCALENDAR