BEGIN:VCALENDAR
VERSION:2.0
PRODID:-//polyphony space on.off | ポリフォニースペースオンオフ | 子どもと一緒にいながら自分時間を*広島の託児付きリフレッシュ空間・コワーキングスペース・シェアスペース・レンタルスペース・一時預かり保育 | 子連れでリフレッシュ*カフェのようにくつろぐ*親子イベントも - ECPv6.8.3//NONSGML v1.0//EN
CALSCALE:GREGORIAN
METHOD:PUBLISH
X-ORIGINAL-URL:https://polyphony.space
X-WR-CALDESC:polyphony space on.off | ポリフォニースペースオンオフ | 子どもと一緒にいながら自分時間を*広島の託児付きリフレッシュ空間・コワーキングスペース・シェアスペース・レンタルスペース・一時預かり保育 | 子連れでリフレッシュ*カフェのようにくつろぐ*親子イベントも のイベント
REFRESH-INTERVAL;VALUE=DURATION:PT1H
X-Robots-Tag:noindex
X-PUBLISHED-TTL:PT1H
BEGIN:VTIMEZONE
TZID:Asia/Tokyo
BEGIN:STANDARD
TZOFFSETFROM:+0900
TZOFFSETTO:+0900
TZNAME:JST
DTSTART:20170101T000000
END:STANDARD
END:VTIMEZONE
BEGIN:VEVENT
DTSTART;TZID=Asia/Tokyo:20170913T103000
DTEND;TZID=Asia/Tokyo:20170913T123000
DTSTAMP:20260426T011630
CREATED:20170818T050326Z
LAST-MODIFIED:20170818T050326Z
UID:1994-1505298600-1505305800@polyphony.space
SUMMARY:ベビーマッサージ教室☆赤ちゃんモンテ講座付 
DESCRIPTION:赤ちゃんとママのベビーマッサージ教室です\n対象／生後２ヶ月～あんよ始めのお子さんとママ、プレママさん\n内容／\n・オイルを使ってのベビーマッサージや親子で楽しめる触れあい遊びや絵本の紹介等\n・赤ちゃんモンテッソーリ・敏感期についてミニ講座\n・お茶をのみながらママの交流\n※予防接種４２時間以内はベビーマッサージはできません  \n◆こちらは指定事業者さんによるイベントです\non.off規定の審査を経て登録された事業者さんです。\n詳細・お申し込み・ご不明点等のお問い合わせは以下URLのリンク先よりお願いいたします。
URL:https://polyphony.space/events/loverysmile0913/
LOCATION:会議室大
CATEGORIES:こどもといっしょ
END:VEVENT
BEGIN:VEVENT
DTSTART;VALUE=DATE:20170929
DTEND;VALUE=DATE:20170930
DTSTAMP:20260426T011630
CREATED:20170922T083710Z
LAST-MODIFIED:20170922T083907Z
UID:2224-1506643200-1506729599@polyphony.space
SUMMARY:on.off/おためし英語教室
DESCRIPTION:「子どもを英語教室に通わせてみたいけど、興味を持つかどうか分からないのに始めから高い月謝を払うのはいやだな・・・。」と思っているそこの奥様！笑（私も思ってる・・・） \non.offで “おためし” してみてはいかがでしょうか？\n料金は１回ごとのお支払いなので、お子さまの気分やご家庭の用事に合わせておためしできます。 \n毎月テーマを設けて、親子で輪になり楽しく英語に触れあいます。お気軽・お気楽にご参加ください♪\n・ \n■英語教室休止のおしらせ■ \n度々ご迷惑をおかけしており申し訳ございません。\nやむを得ない事情により、しばらくの間おためし英語教室をお休みとさせていただきます。\n再開時期は未定です。\n今回を楽しみにお待ちいただいた方、これまで通ってくださった方々には大変申し訳ございませんが、今後も変わらぬご愛顧の程どうぞよろしくお願いいたします。 \nポリフォニースペースオンオフ 津福彩夏
URL:https://polyphony.space/events/onoff0929/
CATEGORIES:on.off主催,こどもといっしょ
END:VEVENT
END:VCALENDAR