BEGIN:VCALENDAR
VERSION:2.0
PRODID:-//polyphony space on.off | ポリフォニースペースオンオフ | 子どもと一緒にいながら自分時間を*広島の託児付きリフレッシュ空間・コワーキングスペース・シェアスペース・レンタルスペース・一時預かり保育 | 子連れでリフレッシュ*カフェのようにくつろぐ*親子イベントも - ECPv6.8.3//NONSGML v1.0//EN
CALSCALE:GREGORIAN
METHOD:PUBLISH
X-ORIGINAL-URL:https://polyphony.space
X-WR-CALDESC:polyphony space on.off | ポリフォニースペースオンオフ | 子どもと一緒にいながら自分時間を*広島の託児付きリフレッシュ空間・コワーキングスペース・シェアスペース・レンタルスペース・一時預かり保育 | 子連れでリフレッシュ*カフェのようにくつろぐ*親子イベントも のイベント
REFRESH-INTERVAL;VALUE=DURATION:PT1H
X-Robots-Tag:noindex
X-PUBLISHED-TTL:PT1H
BEGIN:VTIMEZONE
TZID:Asia/Tokyo
BEGIN:STANDARD
TZOFFSETFROM:+0900
TZOFFSETTO:+0900
TZNAME:JST
DTSTART:20180101T000000
END:STANDARD
END:VTIMEZONE
BEGIN:VEVENT
DTSTART;TZID=Asia/Tokyo:20180510T133000
DTEND;TZID=Asia/Tokyo:20180510T150000
DTSTAMP:20260425T130217
CREATED:20180409T072754Z
LAST-MODIFIED:20180409T083357Z
UID:3320-1525959000-1525964400@polyphony.space
SUMMARY:ぽぽぽベビーサイン教室♪
DESCRIPTION:ベビーサインとは、まだ上手におしゃべりできない赤ちゃんと手話やジェスチャーを使ってコミュニケーションをとる育児法です。\n大好きなパパやママに気持ちが伝わった瞬間、キラキラ笑顔が輝きます♪赤ちゃんの世界を一緒に覗いてみませんか？\n親子の絆、信頼関係がさらに深まり、育児もさらに楽しくなりますよ～！ \n◆こちらは指定事業者さんによるイベントです\non.off規定の審査を経て登録された事業者さんです。\n詳細・お申し込み・ご不明点等のお問い合わせは以下URLのリンク先よりお願いいたします。
URL:https://polyphony.space/events/poppo0510/
LOCATION:会議室大
CATEGORIES:こどもといっしょ
END:VEVENT
BEGIN:VEVENT
DTSTART;TZID=Asia/Tokyo:20180517T101500
DTEND;TZID=Asia/Tokyo:20180517T114500
DTSTAMP:20260425T130217
CREATED:20180409T053618Z
LAST-MODIFIED:20180413T045215Z
UID:3312-1526552100-1526557500@polyphony.space
SUMMARY:「こどものしなやかなカラダとココロをつくる」～シェルハブ・メソッドひろしま～
DESCRIPTION:☆赤ちゃんとの大切な時間がキラキラした時間に変わります☆\nシェルハブ・メソッドは、子どもの将来へのプレゼント！\n初めまして。看護師歴１１年、シェルハブ・メソッド国際公認指導者の岡田真弓と申します。現在２児の女の子（４歳、１歳）の子育て真っ最中。\nシェルハブ・メソッドとは、赤ちゃんにタッチや遊びを通した動き、歌などで感覚に働きかけ、自然でスムーズな心身の発達を促す手法です。\nレッスンでは、赤ちゃんの動き一つ一つがスムーズになるよう、赤ちゃんの「学ぶちから」を手助けをします。動きのバリエーションが増えることでその動きの質は高まり、赤ちゃんのその後の人生の質も高まっていく、と考えています。\nレッスン後はほっこりお茶とお菓子タイム付きです♡\n以下、一つでもチェックがついたら、是非一度お試しください！赤ちゃんの発達で気になることがある方はもちろん、ない方も、\n赤ちゃんを知ると子育てがもっと楽しくなりますよ！\n□プレママ、プレパパ\n□赤ちゃんとのコミュニケーションをもっと深めたい\n□月齢に合ったおもちゃや遊び方を知りたい\n□赤ちゃんがよく泣く\n□寝返りやハイハイを片方しかしない\n□うつ伏せを嫌がる\n◻︎ハイハイしないで立った\n◻︎子育て世代の方と繋がりたい \n◆こちらは指定事業者さんによるイベントです\non.off規定の審査を経て登録された事業者さんです。\n詳細・お申し込み・ご不明点等のお問い合わせは以下URLのリンク先よりお願いいたします。
URL:https://polyphony.space/events/childspace0517/
LOCATION:会議室大
CATEGORIES:こどもといっしょ
END:VEVENT
BEGIN:VEVENT
DTSTART;TZID=Asia/Tokyo:20180518T110000
DTEND;TZID=Asia/Tokyo:20180518T113000
DTSTAMP:20260425T130217
CREATED:20180315T044804Z
LAST-MODIFIED:20180315T045035Z
UID:3195-1526641200-1526643000@polyphony.space
SUMMARY:絵本読み聞かせ
DESCRIPTION:小さい頃から絵本に親しむと、想像力・読解力など大人になっても必要なチカラが自然と身に付きます。\n毎月第１・３・５金曜日はボランティアさんによる絵本読み聞かせの日♪\n託児スペース内でお気軽に。 \n・\n◆お申し込み・イベント参加費は不要です \n通常の滞在費（スペース利用料）がかかります。\nご来店の際は予約フォームより事前にご予約ください。\n会員登録がお済みでない方はこちらから。 \n・\n◆担当者のご紹介 \n岡本 久美子（おかもと くみこ） \n・\n◆店長コメント \n絵本読み聞かせ復活♪\n託児スペースでお子さま向けに読みますので、パパ・ママはいつも通りどこの席にいても大丈夫です(*^_^*)
URL:https://polyphony.space/events/onoff180518/
LOCATION:ポリフォニースペースオンオフ
CATEGORIES:on.off主催,こどもといっしょ
END:VEVENT
BEGIN:VEVENT
DTSTART;TZID=Asia/Tokyo:20180526T100000
DTEND;TZID=Asia/Tokyo:20180526T160000
DTSTAMP:20260425T130217
CREATED:20180501T162828Z
LAST-MODIFIED:20180501T162828Z
UID:3438-1527328800-1527350400@polyphony.space
SUMMARY:あったらいいなの寝相アート
DESCRIPTION:月に一度のセルフ寝相アート撮影☆彡\n毎回同じ背景を使うことで、赤ちゃんが日々大きくなり成長している様子を記録できます。\n「小さい時しか使わないから自分で買うのはもったいない・・・！」\nそんな声にお応えします♪ \n\n\n\n\n\n#あったらいいなの寝相アート 撮影&加工例です❣️ 背景はデニム地・ベージュ・カーキの3色買いました✨ 私的にカーキの色と素材感がズキュン💘 : 朝からキューピーちゃん相手に必死に撮ってたけど、最後に赤ちゃんが来てくれて満足☺️💗 : 4月からはパパベビマと同じ日に開催します🌷 : #ポリフォニースペース #ママの味方 #パパの癒し #託児付きリフレッシュ空間 #広島 #安佐南区 #緑井 #託児 #子連れ #子育て #育児 #パパ #新米ママ #広島ママ #寝相アート #おひるねアート #毎月開催 #成長記録 \n ポリフォニースペース オンオフさん(@polyphonyspace_on.off)がシェアした投稿 –  3月 9\, 2018 at 10:56午後 PST \n\n\n\n◆参加申込方法 \n予約フォームより通常通り託児予約をお願いいたします。\n記述欄に「寝相アート希望」と追記してください。 \n参加費は無料です。通常の滞在費のみでご参加いだだけます。\n撮影のお部屋は開放していますので、お好きな時間にご予約ください。\nお母さん・お父さんのスマホやカメラで、可愛く成長を記録してあげてください♪\n・ \n\nitem info\n・ \n\n			\n				\n			\n			\n				\n			\n			\n				\n			\n			\n				\n			\n			\n				\n			\n			\n				\n			\n		\n\n背景布（白）サイズ：100cm×100cm \n・
URL:https://polyphony.space/events/onoff180526/
LOCATION:ポリフォニースペースオンオフ
CATEGORIES:on.off主催,こどもといっしょ
END:VEVENT
BEGIN:VEVENT
DTSTART;TZID=Asia/Tokyo:20180526T103000
DTEND;TZID=Asia/Tokyo:20180526T120000
DTSTAMP:20260425T130217
CREATED:20180402T074514Z
LAST-MODIFIED:20180402T075149Z
UID:3270-1527330600-1527336000@polyphony.space
SUMMARY:パパのための ベビマ教室&スペシャルティコーヒー体験会
DESCRIPTION:  \n対象：\n生後2ヶ月～あんよ始めのお子さんとお父さん、プレパパ（ベビマ人形をお貸しします）\nご夫婦での参加もOK！人数の追加は大人おひとりにつき＋500円\n 内容：\n①赤ちゃんとできる触れ合い遊び\n②100％ピュアな植物オイルを使って、ベビーマッサージ\n③水分補給、茶話会\n④お子さんの発達に応じたアタッチメント（愛着関係）のお話\n※予防接種後48時間以内、感染症や皮膚に湿疹・炎症が見られる場合、体調が優れない\n場合は、ベビーマッサージを行うことができません。\n \n◆こちらは指定事業者さんによるイベントです\non.off規定の審査を経て登録された事業者さんです。\n詳細・お申し込み・ご不明点等のお問い合わせは以下URLのリンク先よりお願いいたします。
URL:https://polyphony.space/events/ourhome0402/
LOCATION:会議室大
CATEGORIES:こどもといっしょ
END:VEVENT
END:VCALENDAR