BEGIN:VCALENDAR
VERSION:2.0
PRODID:-//polyphony space on.off | ポリフォニースペースオンオフ | 子どもと一緒にいながら自分時間を*広島の託児付きリフレッシュ空間・コワーキングスペース・シェアスペース・レンタルスペース・一時預かり保育 | 子連れでリフレッシュ*カフェのようにくつろぐ*親子イベントも - ECPv6.8.3//NONSGML v1.0//EN
CALSCALE:GREGORIAN
METHOD:PUBLISH
X-ORIGINAL-URL:https://polyphony.space
X-WR-CALDESC:polyphony space on.off | ポリフォニースペースオンオフ | 子どもと一緒にいながら自分時間を*広島の託児付きリフレッシュ空間・コワーキングスペース・シェアスペース・レンタルスペース・一時預かり保育 | 子連れでリフレッシュ*カフェのようにくつろぐ*親子イベントも のイベント
REFRESH-INTERVAL;VALUE=DURATION:PT1H
X-Robots-Tag:noindex
X-PUBLISHED-TTL:PT1H
BEGIN:VTIMEZONE
TZID:Asia/Tokyo
BEGIN:STANDARD
TZOFFSETFROM:+0900
TZOFFSETTO:+0900
TZNAME:JST
DTSTART:20180101T000000
END:STANDARD
END:VTIMEZONE
BEGIN:VEVENT
DTSTART;TZID=Asia/Tokyo:20180706T110000
DTEND;TZID=Asia/Tokyo:20180706T113000
DTSTAMP:20260425T095235
CREATED:20180414T064300Z
LAST-MODIFIED:20180414T064300Z
UID:3377-1530874800-1530876600@polyphony.space
SUMMARY:絵本読み聞かせ
DESCRIPTION:小さい頃から絵本に親しむと、想像力・読解力など大人になっても必要なチカラが自然と身に付きます。\n毎月第１・３・５金曜日はボランティアさんによる絵本読み聞かせの日♪\n託児スペース内でお気軽に。 \n・\n◆お申し込み・イベント参加費は不要です \n通常の滞在費（スペース利用料）がかかります。\nご来店の際は予約フォームより事前にご予約ください。\n会員登録がお済みでない方はこちらから。 \n・\n◆担当者のご紹介 \n岡本 久美子（おかもと くみこ） \n・\n◆店長コメント \n絵本読み聞かせ復活♪\n託児スペースでお子さま向けに読みますので、パパ・ママはいつも通りどこの席にいても大丈夫です(*^_^*)
URL:https://polyphony.space/events/onoff180706/
LOCATION:ポリフォニースペースオンオフ
CATEGORIES:on.off主催,こどもといっしょ
END:VEVENT
BEGIN:VEVENT
DTSTART;VALUE=DATE:20180707
DTEND;VALUE=DATE:20180708
DTSTAMP:20260425T095235
CREATED:20180607T185641Z
LAST-MODIFIED:20180619T135806Z
UID:3599-1530921600-1531007999@polyphony.space
SUMMARY:SpecialtyCoffeeをゆったり嗜む日
DESCRIPTION:Roastery Cafe note × polyphony space on.off\n・\n今日はコーヒー好きママ・パパのための一日。\n・\n喫茶店が大好きなあなたのための一日。\n・\nゆったりとした空気の中香り高いSpecialtyCoffeeを落ち着いて楽しんでいただけるよう、予約は最小限でお受けし営業します。\n・\nBGMはあなたが好きな音楽を流します。\n・\nお子さんは、わたしたちが見ておくので安心してください。\n・\nどうぞゆっくりくつろいでください。\n・\nいつもと違うon.offで、一時の休憩を楽しんでください。\n・ \n\n◆MENU\n・ \nハンドドリップコーヒー４種テイスティング　￥♡\nデカフェ（カフェインレスコーヒー）を含みます。 \n・ \n  \n注文を受けてから丁寧に淹れるSpecialtyCoffeeを１杯　￥400\n４種の中から一番お好みだったものをお選びいただけます。 \n・ \n  \nnote特製くるみのスコーン　￥250\nスコーンは限定10個です。 \n・ \n  \n雪印パーラー スノーロイヤルスペシャル（アイスクリーム）　￥700\n天皇・皇后両陛下のために特別に作られたバニラアイスクリームをお取り寄せ。限定6食。 \n・ \n  \nSpecialtyCoffee・スコーン・スノーロイヤルスペシャルのセット　￥1000\nスコーンまたはアイスクリームどちらかが無くなり次第終了します。 \n・ \n  \nnote店主のCoffeeLesson　￥500\n妊娠中・授乳期に気をつけたいコーヒーとの付き合い方\n（11:00〜11:30/14:00〜14:30） \n・ \n\n・\n◆お申込み方法\n・\n託児予約フォームよりご予約ください。\n※お子さまの人数でご予約ください。\n※ゆったりとした空間を作るため、通常より託児受入人数を少なく設定しています。\n・\n・備考欄には、大人の人数とお子さまの情報（ひらがなでお名前・月齢）をご入力ください。\n・MENUは事前予約（お取り置き）いただくことが可能です。その場合も備考欄にてメニュー名と必要個数をお知らせください。 \n・\n◆参加費\n・\n通常の滞在費（スペース利用料）\nご注文MENUの代金\n・
URL:https://polyphony.space/events/onoff180707/
LOCATION:ポリフォニースペースオンオフ
CATEGORIES:BGM,on.off主催,こころ,こどもといっしょ,学び
END:VEVENT
BEGIN:VEVENT
DTSTART;TZID=Asia/Tokyo:20180720T110000
DTEND;TZID=Asia/Tokyo:20180720T113000
DTSTAMP:20260425T095235
CREATED:20180630T055226Z
LAST-MODIFIED:20180630T055226Z
UID:3660-1532084400-1532086200@polyphony.space
SUMMARY:絵本読み聞かせ
DESCRIPTION:小さい頃から絵本に親しむと、想像力・読解力など大人になっても必要なチカラが自然と身に付きます。\n毎月第１・３・５金曜日はボランティアさんによる絵本読み聞かせの日♪\n託児スペース内でお気軽に。 \n・\n◆お申し込み・イベント参加費は不要です \n通常の滞在費（スペース利用料）がかかります。\nご来店の際は予約フォームより事前にご予約ください。\n会員登録がお済みでない方はこちらから。 \n・\n◆担当者のご紹介 \n岡本 久美子（おかもと くみこ） \n・\n◆店長コメント \n絵本読み聞かせ復活♪\n託児スペースでお子さま向けに読みますので、パパ・ママはいつも通りどこの席にいても大丈夫です(*^_^*)
URL:https://polyphony.space/events/onoff180720/
LOCATION:ポリフォニースペースオンオフ
CATEGORIES:on.off主催,こどもといっしょ
END:VEVENT
BEGIN:VEVENT
DTSTART;TZID=Asia/Tokyo:20180728T100000
DTEND;TZID=Asia/Tokyo:20180728T160000
DTSTAMP:20260425T095235
CREATED:20180719T144255Z
LAST-MODIFIED:20180719T144255Z
UID:3788-1532772000-1532793600@polyphony.space
SUMMARY:あったらいいなの寝相アート
DESCRIPTION:月に一度のセルフ寝相アート撮影☆彡\n毎回同じ背景を使うことで、赤ちゃんが日々大きくなり成長している様子を記録できます。\n「小さい時しか使わないから自分で買うのはもったいない・・・！」\nそんな声にお応えします♪ \n\n\n\n \n\n#あったらいいなの寝相アート 撮影&加工例です❣️ 背景はデニム地・ベージュ・カーキの3色買いました✨ 私的にカーキの色と素材感がズキュン💘 : 朝からキューピーちゃん相手に必死に撮ってたけど、最後に赤ちゃんが来てくれて満足☺️💗 : 4月からはパパベビマと同じ日に開催します🌷 : #ポリフォニースペース #ママの味方 #パパの癒し #託児付きリフレッシュ空間 #広島 #安佐南区 #緑井 #託児 #子連れ #子育て #育児 #パパ #新米ママ #広島ママ #寝相アート #おひるねアート #毎月開催 #成長記録 \n ポリフォニースペース オンオフさん(@polyphonyspace_on.off)がシェアした投稿 –  3月 9\, 2018 at 10:56午後 PST \n\n\n\n◆参加申込方法 \n予約フォームより通常通り託児予約をお願いいたします。\n記述欄に「寝相アート希望」と追記してください。 \n参加費は無料です。通常の滞在費のみでご参加いだだけます。\n撮影のお部屋は開放していますので、お好きな時間にご予約ください。\nお母さん・お父さんのスマホやカメラで、可愛く成長を記録してあげてください♪\n・ \n\nitem info\n・ \n\n			\n				\n			\n			\n				\n			\n			\n				\n			\n			\n				\n			\n			\n				\n			\n			\n				\n			\n		\n\n背景布（白）サイズ：100cm×100cm \n・
URL:https://polyphony.space/events/onoff180728/
LOCATION:ポリフォニースペースオンオフ
CATEGORIES:on.off主催,こどもといっしょ
END:VEVENT
BEGIN:VEVENT
DTSTART;VALUE=DATE:20180730
DTEND;VALUE=DATE:20180731
DTSTAMP:20260425T095235
CREATED:20180704T144400Z
LAST-MODIFIED:20180704T144400Z
UID:3726-1532908800-1532995199@polyphony.space
SUMMARY:夏休みSPECIAL EVENT♡ニブンノイチ～ウキウキのはんぶんこ～
DESCRIPTION:詳細はこちらへ♪
URL:https://polyphony.space/events/onoff180730/
LOCATION:ポリフォニースペースオンオフ
CATEGORIES:on.off主催,こどもといっしょ,ワークショップ,娯楽
END:VEVENT
END:VCALENDAR