BEGIN:VCALENDAR
VERSION:2.0
PRODID:-//polyphony space on.off | ポリフォニースペースオンオフ | 子どもと一緒にいながら自分時間を*広島の託児付きリフレッシュ空間・コワーキングスペース・シェアスペース・レンタルスペース・一時預かり保育 | 子連れでリフレッシュ*カフェのようにくつろぐ*親子イベントも - ECPv6.8.3//NONSGML v1.0//EN
CALSCALE:GREGORIAN
METHOD:PUBLISH
X-ORIGINAL-URL:https://polyphony.space
X-WR-CALDESC:polyphony space on.off | ポリフォニースペースオンオフ | 子どもと一緒にいながら自分時間を*広島の託児付きリフレッシュ空間・コワーキングスペース・シェアスペース・レンタルスペース・一時預かり保育 | 子連れでリフレッシュ*カフェのようにくつろぐ*親子イベントも のイベント
REFRESH-INTERVAL;VALUE=DURATION:PT1H
X-Robots-Tag:noindex
X-PUBLISHED-TTL:PT1H
BEGIN:VTIMEZONE
TZID:Asia/Tokyo
BEGIN:STANDARD
TZOFFSETFROM:+0900
TZOFFSETTO:+0900
TZNAME:JST
DTSTART:20190101T000000
END:STANDARD
END:VTIMEZONE
BEGIN:VEVENT
DTSTART;VALUE=DATE:20190216
DTEND;VALUE=DATE:20190217
DTSTAMP:20260426T074157
CREATED:20190130T082012Z
LAST-MODIFIED:20190130T082112Z
UID:4701-1550275200-1550361599@polyphony.space
SUMMARY:SpecialtyCoffeeをゆったり嗜む日
DESCRIPTION:・\nオンオフが一日、喫茶店へと変身。\n・\nゆったりとした空気の中香り高いSpecialtyCoffeeを落ち着いて楽しんでいただけます。\n・\nBGMはあなたが好きな音楽を流します。\n・\nお子さんは、わたしたちが見ておくので安心してください。\n・\nどうぞゆっくりくつろいでください。\n・\nいつもと違うon.offで、一時の休憩を楽しんでください。\n・\n≫前回の様子を見てみる\n \n・\n今回は、14：30～15：30の間にフルートの生演奏を行います。\nコーヒーと一緒にお楽しみ下さい♪\n・ \n\n◆MENU\n・ \nハンドドリップコーヒー４種テイスティング　￥♡\nデカフェ（カフェインレスコーヒー）を含みます。 \n・ \n  \n注文を受けてから丁寧に淹れるSpecialtyCoffeeを１杯　￥400\n４種の中から一番お好みだったものをお選びいただけます。 \n・ \n  \nnote特製くるみのスコーン　￥250\nスコーンは限定10個です。 \n・ \n  \n雪印パーラー スノーロイヤルスペシャル（アイスクリーム）　￥700\n天皇・皇后両陛下のために特別に作られたバニラアイスクリームをお取り寄せ。限定6食。 \n・ \n  \nSpecialtyCoffee・スコーン・スノーロイヤルスペシャルのセット　￥1000\nスコーンまたはアイスクリームどちらかが無くなり次第終了します。 \n・ \n  \nnote店主のCoffeeLesson　￥500\n妊娠中・授乳期に気をつけたいコーヒーとの付き合い方\n（11:00〜11:30/14:00〜14:30） \n・ \n\n・\n◆お申込み方法\n・\n託児予約フォームよりご予約ください。\n※お子さまの人数でご予約ください。\n・\n・備考欄には、大人の人数とお子さまの情報（ひらがなでお名前・月齢）をご入力ください。\n・MENUは事前予約（お取り置き）いただくことが可能です。その場合も備考欄にてメニュー名と必要個数をお知らせください。 \n・\n◆参加費\n・\n通常の滞在費（スペース利用料）\nご注文MENUの代金\n・
URL:https://polyphony.space/events/onoff190216/
LOCATION:ポリフォニースペースオンオフ
CATEGORIES:BGM,on.off主催,こころ,こどもといっしょ
END:VEVENT
BEGIN:VEVENT
DTSTART;TZID=Asia/Tokyo:20190306T101500
DTEND;TZID=Asia/Tokyo:20190306T114500
DTSTAMP:20260426T074157
CREATED:20190209T053938Z
LAST-MODIFIED:20190209T053938Z
UID:4768-1551867300-1551872700@polyphony.space
SUMMARY:こどものしなやかなココロとカラダをつくる
DESCRIPTION:「こどものしなやかなカラダとココロをつくる」\n～シェルハブ・メソッドひろしま~ \n産まれたばかりの赤ちゃんは、その日その瞬間から親御さんのその手、その声で毎日どんどん発達、成長しています。人生の土台となる2歳までの大切な時間を、短時間で効果的に関わる手法で、もっとキラキラとした時間に変える！簡単な遊び方であかちゃんやお子さんの発達、学ぶ力を後押しする方法を学べます。お家で簡単にできる遊びが発達に全て関わっていると知ったら、日々の子育てが数倍愛おしくなりますよ！ \n＊対象:\n①午前中グループレッスン\n生後すぐからズリバイくらいまでの 赤ちゃんと親御さん。\n（0ヶ月から８ヶ月くらいまで）限定３組\n②午後は月齢制限なし。 \n＊内容: ・ママのぽんぽんむぎゅう(タッチとスクイーズ)で\n赤ちゃんの脳に　 カラダの地図を作ってあげよう！\n・ぽんぽんむぎゅうの効果、根拠と基本。\n・赤ちゃんの動き1つ1つを見て、\nそれがどういう意味があるのか 一緒に見て学びます。\n（知ると知らないとでは大違い！）\n・赤ちゃんの動きや発達に合わせた 家でも出来る遊びを学ぼう。 \n♪赤ちゃんの変化や参加メンバーの月齢、また皆さんの疑問に合わせて、適宜内容は\n変更いたしますことをご了承ください。
URL:https://polyphony.space/events/190306/
LOCATION:会議室大
CATEGORIES:からだ,こころ,こどもといっしょ,学び
END:VEVENT
BEGIN:VEVENT
DTSTART;TZID=Asia/Tokyo:20190306T130000
DTEND;TZID=Asia/Tokyo:20190306T154500
DTSTAMP:20260426T074157
CREATED:20190209T065721Z
LAST-MODIFIED:20190306T013001Z
UID:4770-1551877200-1551887100@polyphony.space
SUMMARY:シェルハブ・メソッドひろしまの部屋
DESCRIPTION:出入り自由！飲食可。午後は気軽に体験しにいらしてください。 \n「こどものしなやかなカラダとココロをつくる」\n～シェルハブ・メソッドひろしまの部屋~\n産まれたばかりの赤ちゃんは、その日その瞬間から親御さんのその手、その声で毎日どんどん発達、成長しています。人生の土台となる2歳までの大切な時間を、短時間で効果的に関わる手法で、もっとキラキラとした時間に変える！簡単な遊び方であかちゃんやお子さんの発達、学ぶ力を後押しする方法を学べます。お家で簡単にできる遊びが発達に全て関わっていると知ったら、日々の子育てが数倍愛おしくなりますよ！ \n＊対象:生後すぐから3歳くらいまでの 赤ちゃんと親御さん。\n＊リピーターさん大歓迎。ちょこっと聞きたい、という方もお気軽にどうぞ。
URL:https://polyphony.space/events/190306-2/
LOCATION:会議室大
CATEGORIES:からだ,こころ,こどもといっしょ,学び
END:VEVENT
END:VCALENDAR